BEGIN:VCALENDAR
VERSION:2.0
PRODID:-//taosacademy.org - ECPv6.15.20//NONSGML v1.0//EN
CALSCALE:GREGORIAN
METHOD:PUBLISH
X-WR-CALNAME:taosacademy.org
X-ORIGINAL-URL:https://taosacademy.org
X-WR-CALDESC:Events for taosacademy.org
REFRESH-INTERVAL;VALUE=DURATION:PT1H
X-Robots-Tag:noindex
X-PUBLISHED-TTL:PT1H
BEGIN:VTIMEZONE
TZID:America/Denver
BEGIN:DAYLIGHT
TZOFFSETFROM:-0700
TZOFFSETTO:-0600
TZNAME:MDT
DTSTART:20250309T090000
END:DAYLIGHT
BEGIN:STANDARD
TZOFFSETFROM:-0600
TZOFFSETTO:-0700
TZNAME:MST
DTSTART:20251102T080000
END:STANDARD
BEGIN:DAYLIGHT
TZOFFSETFROM:-0700
TZOFFSETTO:-0600
TZNAME:MDT
DTSTART:20260308T090000
END:DAYLIGHT
BEGIN:STANDARD
TZOFFSETFROM:-0600
TZOFFSETTO:-0700
TZNAME:MST
DTSTART:20261101T080000
END:STANDARD
BEGIN:DAYLIGHT
TZOFFSETFROM:-0700
TZOFFSETTO:-0600
TZNAME:MDT
DTSTART:20270314T090000
END:DAYLIGHT
BEGIN:STANDARD
TZOFFSETFROM:-0600
TZOFFSETTO:-0700
TZNAME:MST
DTSTART:20271107T080000
END:STANDARD
END:VTIMEZONE
BEGIN:VEVENT
DTSTART;TZID=America/Denver:20260207T080000
DTEND;TZID=America/Denver:20260207T150000
DTSTAMP:20260421T051058
CREATED:20260207T014812Z
LAST-MODIFIED:20260207T015643Z
UID:101965-1770451200-1770476400@taosacademy.org
SUMMARY:To the Lab and Beyond: Cheer on Our STEM R&D Team!
DESCRIPTION:  \nTaos Academy STEM Team “Dragon Coat” is heading to the New Mexico Governor’s STEM Challenge\n \nOur brightest minds are officially trading the classroom for the competition floor! We are thrilled to announce that our Taos Academy STEM Team “Dragon Coat” is heading to the New Mexico Governor’s STEM Challenge this Saturday. \nThese students haven’t just been “studying”—they’ve been engineering\,  and problem-solving their way through our wildland fire issues in New Mexico. It’s time to celebrate their grit and innovation as they prepare to compete against the best to bring home a 7th championship. \n\n\nGo get ’em\, Team Dragon Coat!  Show them that our Taos Academy community is powered by genius.\n\nNew Mexico Governor’s STEM Challenge will take place\nSaturday\, February 7\, 2026\n8 a.m. – 3 p.m.\nNew Mexico Highlands University in Las Vegas\, NM.
URL:https://taosacademy.org/event/stemresearchanddev/
LOCATION:New Mexico Highlands University\, 1005 Diamond St.\, Las Vegas\, NM\, 87701\, United States
CATEGORIES:Competition,Off-campus
ATTACH;FMTTYPE=image/png:https://taosacademy.org/wp-content/uploads/2026/02/STEMChallenge_Logos-Darker-02-scaled.png
END:VEVENT
END:VCALENDAR