BEGIN:VCALENDAR
VERSION:2.0
PRODID:-//taosacademy.org - ECPv6.15.20//NONSGML v1.0//EN
CALSCALE:GREGORIAN
METHOD:PUBLISH
X-ORIGINAL-URL:https://taosacademy.org
X-WR-CALDESC:Events for taosacademy.org
REFRESH-INTERVAL;VALUE=DURATION:PT1H
X-Robots-Tag:noindex
X-PUBLISHED-TTL:PT1H
BEGIN:VTIMEZONE
TZID:America/Denver
BEGIN:DAYLIGHT
TZOFFSETFROM:-0700
TZOFFSETTO:-0600
TZNAME:MDT
DTSTART:20250309T090000
END:DAYLIGHT
BEGIN:STANDARD
TZOFFSETFROM:-0600
TZOFFSETTO:-0700
TZNAME:MST
DTSTART:20251102T080000
END:STANDARD
BEGIN:DAYLIGHT
TZOFFSETFROM:-0700
TZOFFSETTO:-0600
TZNAME:MDT
DTSTART:20260308T090000
END:DAYLIGHT
BEGIN:STANDARD
TZOFFSETFROM:-0600
TZOFFSETTO:-0700
TZNAME:MST
DTSTART:20261101T080000
END:STANDARD
BEGIN:DAYLIGHT
TZOFFSETFROM:-0700
TZOFFSETTO:-0600
TZNAME:MDT
DTSTART:20270314T090000
END:DAYLIGHT
BEGIN:STANDARD
TZOFFSETFROM:-0600
TZOFFSETTO:-0700
TZNAME:MST
DTSTART:20271107T080000
END:STANDARD
END:VTIMEZONE
BEGIN:VEVENT
DTSTART;VALUE=DATE:20260207
DTEND;VALUE=DATE:20260208
DTSTAMP:20260421T052643
CREATED:20260206T194210Z
LAST-MODIFIED:20260206T194211Z
UID:101948-1770422400-1770508799@taosacademy.org
SUMMARY:TACS bowling team is heading to the 2026 State Championships
DESCRIPTION:2026 State Championships\nDate: February 7\, 2026\nSite: Silva Lanes (ABQ) \n\nIt’s time to lace up those funky shoes and bring the heat to the lanes! Taos Academy’s very own bowling team is heading to the 2026 State Championships this Saturday\, and they need our energy to help them knock down some pins. \nOur athletes have been putting in the work\, perfecting their hooks\, and showing us what true “pin-point” accuracy looks like. Now\, it’s our turn to show up and be their biggest cheering section. \n\n 
URL:https://taosacademy.org/event/tacs-bowling-team-is-heading-to-the-2026-state-championships/
LOCATION:Silva Lanes\, 3010 Eubank Blvd NE\, Albuquerque\,\, NM\, 87111\, United States
CATEGORIES:championships,Off-campus,Sports
ATTACH;FMTTYPE=image/jpeg:https://taosacademy.org/wp-content/uploads/2026/02/bowlingteamtacs-scaled.jpg
ORGANIZER;CN="Angelica Montoya-Barraza":MAILTO:amontoya-barraza@taosacademy.org
END:VEVENT
END:VCALENDAR